BEGIN:VCALENDAR
VERSION:2.0
PRODID:-//ChamberMaster//Event Calendar 2.0//EN
METHOD:PUBLISH
X-PUBLISHED-TTL:P1H
REFRESH-INTERVAL:P1H
CALSCALE:GREGORIAN
BEGIN:VTIMEZONE
TZID:America/New_York
BEGIN:DAYLIGHT
RRULE:FREQ=YEARLY;BYMONTH=3;BYDAY=2SU
DTSTART:20070101T000000
TZOFFSETFROM:-0500
TZOFFSETTO:-0400
TZNAME:Eastern Daylight Time
END:DAYLIGHT
BEGIN:STANDARD
RRULE:FREQ=YEARLY;BYMONTH=11;BYDAY=1SU
DTSTART:20070101T000000
TZOFFSETFROM:-0400
TZOFFSETTO:-0500
TZNAME:Eastern Standard Time
END:STANDARD
END:VTIMEZONE
BEGIN:VEVENT
DTSTART;TZID=America/New_York:20241119T173000
DTEND;TZID=America/New_York:20241119T203000
X-MICROSOFT-CDO-ALLDAYEVENT:FALSE
SUMMARY:East Tennessee REALTORS® Affiliate Holiday Party-Affiliate Registration
DESCRIPTION:Join the East Tennessee REALTORS members and affiliates to celebrate the holiday season. This event will take place at the Knoxville Museum of Art and will include a bourbon pull\, food\, and drinks. The event is free for association realtor members. Affiliates unable to become a sponsor may attend the event by purchasing a $75 ticket. YPN will be collecting new\, unopened toys for Mission of Hope\, a nonprofit that provides essential resources for families living in poverty across rural Appalachia. Toys will be distributed to children in pre-K to eighth grade. Drop off donations at the holiday party or East Tennessee REALTORS \, 609 Weisgarber Road\, by Nov. 19.
X-ALT-DESC;FMTTYPE=text/html:<!DOCTYPE html><html><head><title></title></head><body aria-disabled="false" spellcheck="false"><p>Join the East Tennessee REALTORS members and affiliates to celebrate the holiday season. This event will take place at the Knoxville Museum of Art and will include a bourbon pull\, food\, and drinks. The event is free for association realtor members. Affiliates unable to become a sponsor may attend the event by purchasing a $75 ticket. <span style="color: rgb(10\, 10\, 10)\; font-family: Raleway\, sans-serif\;">YPN will be collecting new\, unopened toys for&nbsp\;</span><a data-saferedirecturl="https://www.google.com/url?q=https://r20.rs6.net/tn.jsp?f%3D001uSTrrnB8VfHmAxCeqbihkK2stpyF9L-pPOKSOhI4xMeh_7W3TXTvCBOSLtQda8JW8OGUBY41WgDyhKvwbofwhsop45o-cf6wZtFxcUJKmXWaCPtKN8myWl9EI2HuLQrgOxRt20zGwssTc-be3H7EXw%3D%3D%26c%3DYH1R0-C2Du9pJl3as_SB36LPS07vgK3LX41hXcA8F0edlS05yDIIBg%3D%3D%26ch%3D7_YXFOXqio4pBI_h5mhNNWizfCiWs-frXwku8lHDuzUycChsfPHZcw%3D%3D&source=gmail&ust=1728480149855000&usg=AOvVaw0ozyZBLDC1I1qpdM9t8n8m" fr-original-style="color: rgb(83\, 147\, 188)\; font-family: Raleway\, sans-serif\;" href="https://r20.rs6.net/tn.jsp?f=001uSTrrnB8VfHmAxCeqbihkK2stpyF9L-pPOKSOhI4xMeh_7W3TXTvCBOSLtQda8JW8OGUBY41WgDyhKvwbofwhsop45o-cf6wZtFxcUJKmXWaCPtKN8myWl9EI2HuLQrgOxRt20zGwssTc-be3H7EXw==&c=YH1R0-C2Du9pJl3as_SB36LPS07vgK3LX41hXcA8F0edlS05yDIIBg==&ch=7_YXFOXqio4pBI_h5mhNNWizfCiWs-frXwku8lHDuzUycChsfPHZcw==" style="color: rgb(83\, 147\, 188)\; font-family: Raleway\, sans-serif\; user-select: auto\;" target="_blank">Mission of Hope</a><span style="color: rgb(10\, 10\, 10)\; font-family: Raleway\, sans-serif\;">\, a nonprofit that provides essential resources for families living in poverty across rural Appalachia. Toys will be distributed to children in pre-K to eighth grade. Drop off donations at the holiday party or East Tennessee REALTORS</span><span style="color: rgb(10\, 10\, 10)\; font-family: Raleway\, sans-serif\;">&reg\;\, 609 Weisgarber Road\, by Nov. 19.</span></p></body></html>
LOCATION:1050 Worlds Fair Park Dr. Knoxville TN 37916
UID:e.2665.1046533
SEQUENCE:3
DTSTAMP:20260424T170254Z
URL:https://members.kaarmls.com/education-calendar/Details/east-tennessee-realtors-affiliate-holiday-party-affiliate-registration-1205418?sourceTypeId=Hub
END:VEVENT
END:VCALENDAR
